Package: Pedixplorer Version: 1.0.0 Command: rm -rf Pedixplorer.buildbin-libdir && mkdir Pedixplorer.buildbin-libdir && /Users/biocbuild/BBS/utils/build-universal.sh Pedixplorer_1.0.0.tar.gz /Library/Frameworks/R.framework/Resources/bin/R Pedixplorer.buildbin-libdir StartedAt: 2024-10-18 19:55:31 -0400 (Fri, 18 Oct 2024) EndedAt: 2024-10-18 19:55:55 -0400 (Fri, 18 Oct 2024) EllapsedTime: 23.7 seconds RetCode: 0 Status: OK PackageFile: Pedixplorer_1.0.0.tgz PackageFileSize: 3.857 MiB