Package: Pedixplorer Version: 1.0.0 Command: /Library/Frameworks/R.framework/Resources/bin/R CMD check --install=check:Pedixplorer.install-out.txt --library=/Library/Frameworks/R.framework/Resources/library --no-vignettes --timings Pedixplorer_1.0.0.tar.gz StartedAt: 2024-06-11 01:05:14 -0400 (Tue, 11 Jun 2024) EndedAt: 2024-06-11 01:09:01 -0400 (Tue, 11 Jun 2024) EllapsedTime: 227.6 seconds RetCode: 0 Status: OK CheckDir: Pedixplorer.Rcheck Warnings: 0