Package: Pedixplorer Version: 1.0.0 Command: /home/biocbuild/R/R-beta-2024-04-15_r86425/bin/R CMD check --install=check:Pedixplorer.install-out.txt --library=/home/biocbuild/R/R-beta-2024-04-15_r86425/site-library --no-vignettes --timings Pedixplorer_1.0.0.tar.gz StartedAt: 2024-05-09 10:27:56 -0000 (Thu, 09 May 2024) EndedAt: 2024-05-09 10:30:53 -0000 (Thu, 09 May 2024) EllapsedTime: 177.4 seconds RetCode: 0 Status: OK CheckDir: Pedixplorer.Rcheck Warnings: 0