Package: Pedixplorer Version: 1.0.0 Command: rm -rf Pedixplorer.buildbin-libdir && mkdir Pedixplorer.buildbin-libdir && /Users/biocbuild/BBS/utils/build-universal.sh Pedixplorer_1.0.0.tar.gz /Library/Frameworks/R.framework/Resources/bin/R Pedixplorer.buildbin-libdir StartedAt: 2024-10-17 16:49:28 -0400 (Thu, 17 Oct 2024) EndedAt: 2024-10-17 16:50:12 -0400 (Thu, 17 Oct 2024) EllapsedTime: 43.8 seconds RetCode: 0 Status: OK PackageFile: Pedixplorer_1.0.0.tgz PackageFileSize: 3.856 MiB