Package: Pedixplorer Version: 1.0.0 Command: /Library/Frameworks/R.framework/Resources/bin/R CMD build --keep-empty-dirs --no-resave-data Pedixplorer StartedAt: 2024-10-16 21:59:47 -0400 (Wed, 16 Oct 2024) EndedAt: 2024-10-16 22:02:18 -0400 (Wed, 16 Oct 2024) EllapsedTime: 150.5 seconds RetCode: 0 Status: OK PackageFile: Pedixplorer_1.0.0.tar.gz PackageFileSize: 3.419 MiB