Package: Pedixplorer Version: 1.0.0 Command: /home/biocbuild/bbs-3.19-bioc/R/bin/R CMD check --install=check:Pedixplorer.install-out.txt --library=/home/biocbuild/bbs-3.19-bioc/R/site-library --timings Pedixplorer_1.0.0.tar.gz StartedAt: 2024-10-17 03:40:50 -0400 (Thu, 17 Oct 2024) EndedAt: 2024-10-17 03:43:44 -0400 (Thu, 17 Oct 2024) EllapsedTime: 174.4 seconds RetCode: 0 Status: OK CheckDir: Pedixplorer.Rcheck Warnings: 0