Package: Pedixplorer Version: 1.0.0 Command: rm -rf Pedixplorer.buildbin-libdir && mkdir Pedixplorer.buildbin-libdir && F:\biocbuild\bbs-3.19-bioc\R\bin\R.exe CMD INSTALL --build --library=Pedixplorer.buildbin-libdir Pedixplorer_1.0.0.tar.gz StartedAt: 2024-06-27 08:39:47 -0400 (Thu, 27 Jun 2024) EndedAt: 2024-06-27 08:40:26 -0400 (Thu, 27 Jun 2024) EllapsedTime: 39.2 seconds RetCode: 0 Status: OK PackageFile: Pedixplorer_1.0.0.zip PackageFileSize: 2.87 MiB