Package: Pedixplorer Version: 1.0.0 Command: F:\biocbuild\bbs-3.19-bioc\R\bin\R.exe CMD check --no-multiarch --install=check:Pedixplorer.install-out.txt --library=F:\biocbuild\bbs-3.19-bioc\R\library --no-vignettes --timings Pedixplorer_1.0.0.tar.gz StartedAt: 2024-06-27 04:40:25 -0400 (Thu, 27 Jun 2024) EndedAt: 2024-06-27 04:43:28 -0400 (Thu, 27 Jun 2024) EllapsedTime: 182.5 seconds RetCode: 0 Status: OK CheckDir: Pedixplorer.Rcheck Warnings: 0