Package: Pedixplorer Version: 1.0.0 Command: rm -rf Pedixplorer.buildbin-libdir && mkdir Pedixplorer.buildbin-libdir && E:\biocbuild\bbs-3.19-bioc\R\bin\R.exe CMD INSTALL --build --library=Pedixplorer.buildbin-libdir Pedixplorer_1.0.0.tar.gz StartedAt: 2024-10-17 08:20:10 -0400 (Thu, 17 Oct 2024) EndedAt: 2024-10-17 08:22:30 -0400 (Thu, 17 Oct 2024) EllapsedTime: 139.7 seconds RetCode: 0 Status: OK PackageFile: Pedixplorer_1.0.0.zip PackageFileSize: 2.869 MiB