Package: PhenStat Version: 2.40.0 Command: /Library/Frameworks/R.framework/Resources/bin/R CMD check --install=check:PhenStat.install-out.txt --library=/Library/Frameworks/R.framework/Resources/library --no-vignettes --timings PhenStat_2.40.0.tar.gz StartedAt: 2024-10-18 07:25:20 -0400 (Fri, 18 Oct 2024) EndedAt: 2024-10-18 07:27:58 -0400 (Fri, 18 Oct 2024) EllapsedTime: 158.0 seconds RetCode: 0 Status: OK CheckDir: PhenStat.Rcheck Warnings: 0