Package: PhenStat Version: 2.40.0 Command: chmod a+r PhenStat -R && F:\biocbuild\bbs-3.19-bioc\R\bin\R.exe CMD build --keep-empty-dirs --no-resave-data PhenStat StartedAt: 2024-06-26 20:58:42 -0400 (Wed, 26 Jun 2024) EndedAt: 2024-06-26 20:59:54 -0400 (Wed, 26 Jun 2024) EllapsedTime: 71.9 seconds RetCode: 0 Status: OK PackageFile: PhenStat_2.40.0.tar.gz PackageFileSize: 682.6 KiB