Package: PhenStat Version: 2.40.0 Command: rm -rf PhenStat.buildbin-libdir && mkdir PhenStat.buildbin-libdir && E:\biocbuild\bbs-3.19-bioc\R\bin\R.exe CMD INSTALL --build --library=PhenStat.buildbin-libdir PhenStat_2.40.0.tar.gz StartedAt: 2024-10-17 08:20:47 -0400 (Thu, 17 Oct 2024) EndedAt: 2024-10-17 08:21:44 -0400 (Thu, 17 Oct 2024) EllapsedTime: 56.7 seconds RetCode: 0 Status: OK PackageFile: PhenStat_2.40.0.zip PackageFileSize: 1.25 MiB