Package: PhenStat Version: 2.40.0 Command: E:\biocbuild\bbs-3.19-bioc\R\bin\R.exe CMD check --no-multiarch --install=check:PhenStat.install-out.txt --library=E:\biocbuild\bbs-3.19-bioc\R\library --no-vignettes --timings PhenStat_2.40.0.tar.gz StartedAt: 2024-10-17 04:26:28 -0400 (Thu, 17 Oct 2024) EndedAt: 2024-10-17 04:29:21 -0400 (Thu, 17 Oct 2024) EllapsedTime: 173.4 seconds RetCode: 0 Status: OK CheckDir: PhenStat.Rcheck Warnings: 0