Package: PhenStat Version: 2.40.0 Command: E:\biocbuild\bbs-3.19-bioc\R\bin\R.exe CMD INSTALL PhenStat StartedAt: 2024-10-16 16:59:55 -0400 (Wed, 16 Oct 2024) EndedAt: 2024-10-16 17:00:46 -0400 (Wed, 16 Oct 2024) EllapsedTime: 50.4 seconds RetCode: 0 Status: OK