Package: PhosR Version: 1.14.0 Command: /Library/Frameworks/R.framework/Resources/bin/R CMD build --keep-empty-dirs --no-resave-data PhosR StartedAt: 2024-06-10 02:33:53 -0400 (Mon, 10 Jun 2024) EndedAt: 2024-06-10 02:37:59 -0400 (Mon, 10 Jun 2024) EllapsedTime: 245.8 seconds RetCode: 0 Status: OK PackageFile: PhosR_1.14.0.tar.gz PackageFileSize: 7.97 MiB