Package: PhosR Version: 1.14.0 Command: chmod a+r PhosR -R && F:\biocbuild\bbs-3.19-bioc\R\bin\R.exe CMD build --keep-empty-dirs --no-resave-data PhosR StartedAt: 2024-06-26 20:59:45 -0400 (Wed, 26 Jun 2024) EndedAt: 2024-06-26 21:05:52 -0400 (Wed, 26 Jun 2024) EllapsedTime: 367.2 seconds RetCode: 0 Status: OK PackageFile: PhosR_1.14.0.tar.gz PackageFileSize: 6.703 MiB