Package: PhosR Version: 1.14.0 Command: rm -rf PhosR.buildbin-libdir && mkdir PhosR.buildbin-libdir && E:\biocbuild\bbs-3.19-bioc\R\bin\R.exe CMD INSTALL --build --library=PhosR.buildbin-libdir PhosR_1.14.0.tar.gz StartedAt: 2024-10-17 08:20:55 -0400 (Thu, 17 Oct 2024) EndedAt: 2024-10-17 08:21:42 -0400 (Thu, 17 Oct 2024) EllapsedTime: 47.4 seconds RetCode: 0 Status: OK PackageFile: PhosR_1.14.0.zip PackageFileSize: 4.76 MiB