Package: PloGO2 Version: 1.16.0 Command: rm -rf PloGO2.buildbin-libdir && mkdir PloGO2.buildbin-libdir && /Users/biocbuild/BBS/utils/build-universal.sh PloGO2_1.16.0.tar.gz /Library/Frameworks/R.framework/Resources/bin/R PloGO2.buildbin-libdir StartedAt: 2024-10-18 19:58:19 -0400 (Fri, 18 Oct 2024) EndedAt: 2024-10-18 19:58:51 -0400 (Fri, 18 Oct 2024) EllapsedTime: 31.8 seconds RetCode: 0 Status: OK PackageFile: PloGO2_1.16.0.tgz PackageFileSize: 2.111 MiB