Package: PloGO2 Version: 1.16.0 Command: /Library/Frameworks/R.framework/Resources/bin/R CMD check --install=check:PloGO2.install-out.txt --library=/Library/Frameworks/R.framework/Resources/library --no-vignettes --timings PloGO2_1.16.0.tar.gz StartedAt: 2024-10-18 07:37:49 -0400 (Fri, 18 Oct 2024) EndedAt: 2024-10-18 07:43:31 -0400 (Fri, 18 Oct 2024) EllapsedTime: 342.8 seconds RetCode: 0 Status: OK CheckDir: PloGO2.Rcheck Warnings: 0