Package: PloGO2 Version: 1.16.0 Command: /Library/Frameworks/R.framework/Resources/bin/R CMD INSTALL PloGO2 StartedAt: 2024-10-16 18:40:26 -0400 (Wed, 16 Oct 2024) EndedAt: 2024-10-16 18:40:51 -0400 (Wed, 16 Oct 2024) EllapsedTime: 25.6 seconds RetCode: 0 Status: OK