Package: PloGO2 Version: 1.16.0 Command: /Library/Frameworks/R.framework/Resources/bin/R CMD build --keep-empty-dirs --no-resave-data PloGO2 StartedAt: 2024-06-10 02:38:04 -0400 (Mon, 10 Jun 2024) EndedAt: 2024-06-10 02:41:14 -0400 (Mon, 10 Jun 2024) EllapsedTime: 190.3 seconds RetCode: 0 Status: OK PackageFile: PloGO2_1.16.0.tar.gz PackageFileSize: 2.321 MiB