Package: PloGO2 Version: 1.16.0 Command: /Library/Frameworks/R.framework/Resources/bin/R CMD INSTALL PloGO2 StartedAt: 2024-06-09 17:29:38 -0400 (Sun, 09 Jun 2024) EndedAt: 2024-06-09 17:30:08 -0400 (Sun, 09 Jun 2024) EllapsedTime: 29.9 seconds RetCode: 0 Status: OK