Package: PloGO2 Version: 1.16.0 Command: /Library/Frameworks/R.framework/Resources/bin/R CMD check --install=check:PloGO2.install-out.txt --library=/Library/Frameworks/R.framework/Resources/library --no-vignettes --timings PloGO2_1.16.0.tar.gz StartedAt: 2024-06-09 22:15:30 -0400 (Sun, 09 Jun 2024) EndedAt: 2024-06-09 22:20:57 -0400 (Sun, 09 Jun 2024) EllapsedTime: 327.0 seconds RetCode: 0 Status: OK CheckDir: PloGO2.Rcheck Warnings: 0