Package: PloGO2 Version: 1.16.0 Command: /Library/Frameworks/R.framework/Resources/bin/R CMD INSTALL PloGO2 StartedAt: 2024-06-09 15:39:50 -0400 (Sun, 09 Jun 2024) EndedAt: 2024-06-09 15:40:19 -0400 (Sun, 09 Jun 2024) EllapsedTime: 28.6 seconds RetCode: 0 Status: OK