Package: PloGO2 Version: 1.16.0 Command: /Library/Frameworks/R.framework/Resources/bin/R CMD build --keep-empty-dirs --no-resave-data PloGO2 StartedAt: 2024-10-16 22:08:22 -0400 (Wed, 16 Oct 2024) EndedAt: 2024-10-16 22:13:35 -0400 (Wed, 16 Oct 2024) EllapsedTime: 313.6 seconds RetCode: 0 Status: OK PackageFile: PloGO2_1.16.0.tar.gz PackageFileSize: 2.321 MiB