Package: PloGO2 Version: 1.16.0 Command: /Library/Frameworks/R.framework/Resources/bin/R CMD INSTALL PloGO2 StartedAt: 2024-10-16 16:42:13 -0400 (Wed, 16 Oct 2024) EndedAt: 2024-10-16 16:43:04 -0400 (Wed, 16 Oct 2024) EllapsedTime: 51.4 seconds RetCode: 0 Status: OK