Package: PloGO2 Version: 1.16.0 Command: chmod a+r PloGO2 -R && F:\biocbuild\bbs-3.19-bioc\R\bin\R.exe CMD build --keep-empty-dirs --no-resave-data PloGO2 StartedAt: 2024-06-26 21:00:44 -0400 (Wed, 26 Jun 2024) EndedAt: 2024-06-26 21:06:05 -0400 (Wed, 26 Jun 2024) EllapsedTime: 321.2 seconds RetCode: 0 Status: OK PackageFile: PloGO2_1.16.0.tar.gz PackageFileSize: 1.694 MiB