Package: PloGO2 Version: 1.16.0 Command: E:\biocbuild\bbs-3.19-bioc\R\bin\R.exe CMD INSTALL PloGO2 StartedAt: 2024-10-16 17:15:49 -0400 (Wed, 16 Oct 2024) EndedAt: 2024-10-16 17:16:21 -0400 (Wed, 16 Oct 2024) EllapsedTime: 32.6 seconds RetCode: 0 Status: OK