Package: PoDCall Version: 1.12.0 Command: /Library/Frameworks/R.framework/Resources/bin/R CMD check --install=check:PoDCall.install-out.txt --library=/Library/Frameworks/R.framework/Resources/library --no-vignettes --timings PoDCall_1.12.0.tar.gz StartedAt: 2024-10-17 10:59:09 -0400 (Thu, 17 Oct 2024) EndedAt: 2024-10-17 11:12:52 -0400 (Thu, 17 Oct 2024) EllapsedTime: 822.2 seconds RetCode: 0 Status: OK CheckDir: PoDCall.Rcheck Warnings: 0