Package: PoDCall Version: 1.12.0 Command: /home/biocbuild/bbs-3.19-bioc/R/bin/R CMD INSTALL PoDCall StartedAt: 2024-10-16 16:18:14 -0400 (Wed, 16 Oct 2024) EndedAt: 2024-10-16 16:18:19 -0400 (Wed, 16 Oct 2024) EllapsedTime: 5.3 seconds RetCode: 0 Status: OK