Package: PoDCall Version: 1.12.0 Command: chmod a+r PoDCall -R && E:\biocbuild\bbs-3.19-bioc\R\bin\R.exe CMD build --keep-empty-dirs --no-resave-data PoDCall StartedAt: 2024-10-16 21:09:31 -0400 (Wed, 16 Oct 2024) EndedAt: 2024-10-16 21:13:54 -0400 (Wed, 16 Oct 2024) EllapsedTime: 263.4 seconds RetCode: 0 Status: OK PackageFile: PoDCall_1.12.0.tar.gz PackageFileSize: 2.012 MiB