Package: Prostar Version: 1.36.3 Command: /Library/Frameworks/R.framework/Resources/bin/R CMD build --keep-empty-dirs --no-resave-data Prostar StartedAt: 2024-10-17 06:46:16 -0400 (Thu, 17 Oct 2024) EndedAt: 2024-10-17 06:47:10 -0400 (Thu, 17 Oct 2024) EllapsedTime: 53.2 seconds RetCode: 0 Status: OK PackageFile: Prostar_1.36.3.tar.gz PackageFileSize: 4.31 MiB