Package: Prostar Version: 1.36.3 Command: /Library/Frameworks/R.framework/Resources/bin/R CMD INSTALL Prostar StartedAt: 2024-10-16 17:46:04 -0400 (Wed, 16 Oct 2024) EndedAt: 2024-10-16 17:46:46 -0400 (Wed, 16 Oct 2024) EllapsedTime: 42.4 seconds RetCode: 0 Status: OK