Package: Prostar Version: 1.36.1 Command: /Library/Frameworks/R.framework/Resources/bin/R CMD build --keep-empty-dirs --no-resave-data Prostar StartedAt: 2024-06-10 02:48:54 -0400 (Mon, 10 Jun 2024) EndedAt: 2024-06-10 02:50:19 -0400 (Mon, 10 Jun 2024) EllapsedTime: 85.7 seconds RetCode: 0 Status: OK PackageFile: Prostar_1.36.1.tar.gz PackageFileSize: 5.698 MiB