Package: Prostar Version: 1.36.0 Command: /home/biocbuild/R/R-beta-2024-04-15_r86425/bin/R CMD INSTALL Prostar StartedAt: 2024-05-08 20:51:22 -0000 (Wed, 08 May 2024) EndedAt: 2024-05-08 20:52:11 -0000 (Wed, 08 May 2024) EllapsedTime: 48.8 seconds RetCode: 0 Status: OK