Package: Prostar Version: 1.36.3 Command: rm -rf Prostar.buildbin-libdir && mkdir Prostar.buildbin-libdir && /Users/biocbuild/BBS/utils/build-universal.sh Prostar_1.36.3.tar.gz /Library/Frameworks/R.framework/Resources/bin/R Prostar.buildbin-libdir StartedAt: 2024-10-17 16:53:09 -0400 (Thu, 17 Oct 2024) EndedAt: 2024-10-17 16:54:39 -0400 (Thu, 17 Oct 2024) EllapsedTime: 90.3 seconds RetCode: 0 Status: OK PackageFile: Prostar_1.36.3.tgz PackageFileSize: 1.674 MiB