Package: Prostar Version: 1.36.3 Command: /Library/Frameworks/R.framework/Resources/bin/R CMD build --keep-empty-dirs --no-resave-data Prostar StartedAt: 2024-10-16 22:15:02 -0400 (Wed, 16 Oct 2024) EndedAt: 2024-10-16 22:16:45 -0400 (Wed, 16 Oct 2024) EllapsedTime: 102.4 seconds RetCode: 0 Status: OK PackageFile: Prostar_1.36.3.tar.gz PackageFileSize: 4.31 MiB