Package: Prostar Version: 1.36.3 Command: /Library/Frameworks/R.framework/Resources/bin/R CMD check --install=check:Prostar.install-out.txt --library=/Library/Frameworks/R.framework/Resources/library --no-vignettes --timings Prostar_1.36.3.tar.gz StartedAt: 2024-10-17 11:10:06 -0400 (Thu, 17 Oct 2024) EndedAt: 2024-10-17 11:19:18 -0400 (Thu, 17 Oct 2024) EllapsedTime: 552.1 seconds RetCode: 0 Status: OK CheckDir: Prostar.Rcheck Warnings: 0