Package: Prostar Version: 1.36.3 Command: /home/biocbuild/bbs-3.19-bioc/R/bin/R CMD build --keep-empty-dirs --no-resave-data Prostar StartedAt: 2024-10-16 20:13:17 -0400 (Wed, 16 Oct 2024) EndedAt: 2024-10-16 20:13:56 -0400 (Wed, 16 Oct 2024) EllapsedTime: 39.1 seconds RetCode: 0 Status: OK PackageFile: Prostar_1.36.3.tar.gz PackageFileSize: 4.31 MiB