Package: Prostar Version: 1.36.2 Command: F:\biocbuild\bbs-3.19-bioc\R\bin\R.exe CMD check --no-multiarch --install=check:Prostar.install-out.txt --library=F:\biocbuild\bbs-3.19-bioc\R\library --no-vignettes --timings Prostar_1.36.2.tar.gz StartedAt: 2024-06-27 04:56:01 -0400 (Thu, 27 Jun 2024) EndedAt: 2024-06-27 05:00:46 -0400 (Thu, 27 Jun 2024) EllapsedTime: 284.9 seconds RetCode: 0 Status: OK CheckDir: Prostar.Rcheck Warnings: 0