Package: Prostar Version: 1.36.3 Command: rm -rf Prostar.buildbin-libdir && mkdir Prostar.buildbin-libdir && E:\biocbuild\bbs-3.19-bioc\R\bin\R.exe CMD INSTALL --build --library=Prostar.buildbin-libdir Prostar_1.36.3.tar.gz StartedAt: 2024-10-17 08:23:13 -0400 (Thu, 17 Oct 2024) EndedAt: 2024-10-17 08:24:01 -0400 (Thu, 17 Oct 2024) EllapsedTime: 47.9 seconds RetCode: 0 Status: OK PackageFile: Prostar_1.36.3.zip PackageFileSize: 1.728 MiB