Package: Prostar Version: 1.36.3 Command: E:\biocbuild\bbs-3.19-bioc\R\bin\R.exe CMD INSTALL Prostar StartedAt: 2024-10-16 17:01:42 -0400 (Wed, 16 Oct 2024) EndedAt: 2024-10-16 17:03:00 -0400 (Wed, 16 Oct 2024) EllapsedTime: 78.0 seconds RetCode: 0 Status: OK