Package: PureCN Version: 2.10.0 Command: /Library/Frameworks/R.framework/Resources/bin/R CMD INSTALL PureCN StartedAt: 2024-10-16 16:43:23 -0400 (Wed, 16 Oct 2024) EndedAt: 2024-10-16 16:44:22 -0400 (Wed, 16 Oct 2024) EllapsedTime: 58.9 seconds RetCode: 0 Status: OK