Package: PureCN Version: 2.10.0 Command: /Library/Frameworks/R.framework/Resources/bin/R CMD build --keep-empty-dirs --no-resave-data PureCN StartedAt: 2024-10-16 22:16:52 -0400 (Wed, 16 Oct 2024) EndedAt: 2024-10-16 22:29:28 -0400 (Wed, 16 Oct 2024) EllapsedTime: 755.6 seconds RetCode: 0 Status: OK PackageFile: PureCN_2.10.0.tar.gz PackageFileSize: 5.722 MiB