Package: PureCN Version: 2.10.0 Command: /Library/Frameworks/R.framework/Resources/bin/R CMD check --install=check:PureCN.install-out.txt --library=/Library/Frameworks/R.framework/Resources/library --no-vignettes --timings PureCN_2.10.0.tar.gz StartedAt: 2024-10-17 11:14:00 -0400 (Thu, 17 Oct 2024) EndedAt: 2024-10-17 11:54:01 -0400 (Thu, 17 Oct 2024) EllapsedTime: 2400.6 seconds RetCode: None Status: TIMEOUT CheckDir: PureCN.Rcheck Warnings: NA