Package: PureCN Version: 2.10.0 Command: /Library/Frameworks/R.framework/Resources/bin/R CMD INSTALL PureCN StartedAt: 2024-10-16 15:42:45 -0400 (Wed, 16 Oct 2024) EndedAt: 2024-10-16 15:44:38 -0400 (Wed, 16 Oct 2024) EllapsedTime: 113.2 seconds RetCode: 0 Status: OK