Package: PureCN Version: 2.10.0 Command: chmod a+r PureCN -R && E:\biocbuild\bbs-3.19-bioc\R\bin\R.exe CMD build --keep-empty-dirs --no-resave-data PureCN StartedAt: 2024-10-16 21:15:40 -0400 (Wed, 16 Oct 2024) EndedAt: 2024-10-16 21:20:54 -0400 (Wed, 16 Oct 2024) EllapsedTime: 314.0 seconds RetCode: 0 Status: OK PackageFile: PureCN_2.10.0.tar.gz PackageFileSize: 5.72 MiB