Package: PureCN Version: 2.10.0 Command: E:\biocbuild\bbs-3.19-bioc\R\bin\R.exe CMD INSTALL PureCN StartedAt: 2024-10-16 16:33:43 -0400 (Wed, 16 Oct 2024) EndedAt: 2024-10-16 16:34:56 -0400 (Wed, 16 Oct 2024) EllapsedTime: 72.7 seconds RetCode: 0 Status: OK