Package: Pviz Version: 1.38.0 Command: /Library/Frameworks/R.framework/Resources/bin/R CMD check --install=check:Pviz.install-out.txt --library=/Library/Frameworks/R.framework/Resources/library --no-vignettes --timings Pviz_1.38.0.tar.gz StartedAt: 2024-10-18 08:17:04 -0400 (Fri, 18 Oct 2024) EndedAt: 2024-10-18 08:23:42 -0400 (Fri, 18 Oct 2024) EllapsedTime: 397.9 seconds RetCode: 0 Status: WARNINGS CheckDir: Pviz.Rcheck Warnings: 1