Package: Pviz Version: 1.38.0 Command: /Library/Frameworks/R.framework/Resources/bin/R CMD check --install=check:Pviz.install-out.txt --library=/Library/Frameworks/R.framework/Resources/library --no-vignettes --timings Pviz_1.38.0.tar.gz StartedAt: 2024-06-11 01:59:40 -0400 (Tue, 11 Jun 2024) EndedAt: 2024-06-11 02:08:22 -0400 (Tue, 11 Jun 2024) EllapsedTime: 522.0 seconds RetCode: 0 Status: WARNINGS CheckDir: Pviz.Rcheck Warnings: 1